BEGIN:VCALENDAR
VERSION:2.0
PRODID:-//Core Kids Academy - ECPv6.15.12.2//NONSGML v1.0//EN
CALSCALE:GREGORIAN
METHOD:PUBLISH
X-WR-CALNAME:Core Kids Academy
X-ORIGINAL-URL:https://corekidsacademy.com
X-WR-CALDESC:Events for Core Kids Academy
REFRESH-INTERVAL;VALUE=DURATION:PT1H
X-Robots-Tag:noindex
X-PUBLISHED-TTL:PT1H
BEGIN:VTIMEZONE
TZID:America/Halifax
BEGIN:DAYLIGHT
TZOFFSETFROM:-0400
TZOFFSETTO:-0300
TZNAME:ADT
DTSTART:20240310T060000
END:DAYLIGHT
BEGIN:STANDARD
TZOFFSETFROM:-0300
TZOFFSETTO:-0400
TZNAME:AST
DTSTART:20241103T050000
END:STANDARD
BEGIN:DAYLIGHT
TZOFFSETFROM:-0400
TZOFFSETTO:-0300
TZNAME:ADT
DTSTART:20250309T060000
END:DAYLIGHT
BEGIN:STANDARD
TZOFFSETFROM:-0300
TZOFFSETTO:-0400
TZNAME:AST
DTSTART:20251102T050000
END:STANDARD
BEGIN:DAYLIGHT
TZOFFSETFROM:-0400
TZOFFSETTO:-0300
TZNAME:ADT
DTSTART:20260308T060000
END:DAYLIGHT
BEGIN:STANDARD
TZOFFSETFROM:-0300
TZOFFSETTO:-0400
TZNAME:AST
DTSTART:20261101T050000
END:STANDARD
END:VTIMEZONE
BEGIN:VEVENT
DTSTART;TZID=America/Halifax:20251121T123000
DTEND;TZID=America/Halifax:20251121T133000
DTSTAMP:20260419T165712
CREATED:20251024T021528Z
LAST-MODIFIED:20251024T022900Z
UID:2626-1763728200-1763731800@corekidsacademy.com
SUMMARY:Open Gym
DESCRIPTION:Sign up REQUIRED via our “Special Events” webpage.
URL:https://corekidsacademy.com/event/open-gym-4/
ATTACH;FMTTYPE=image/jpeg:https://corekidsacademy.com/wp-content/uploads/2025/04/NinjaCamp-corekids.jpg
END:VEVENT
END:VCALENDAR