BEGIN:VCALENDAR
VERSION:2.0
PRODID:-//Core Kids Academy - ECPv6.15.12.2//NONSGML v1.0//EN
CALSCALE:GREGORIAN
METHOD:PUBLISH
X-WR-CALNAME:Core Kids Academy
X-ORIGINAL-URL:https://corekidsacademy.com
X-WR-CALDESC:Events for Core Kids Academy
REFRESH-INTERVAL;VALUE=DURATION:PT1H
X-Robots-Tag:noindex
X-PUBLISHED-TTL:PT1H
BEGIN:VTIMEZONE
TZID:America/Halifax
BEGIN:DAYLIGHT
TZOFFSETFROM:-0400
TZOFFSETTO:-0300
TZNAME:ADT
DTSTART:20240310T060000
END:DAYLIGHT
BEGIN:STANDARD
TZOFFSETFROM:-0300
TZOFFSETTO:-0400
TZNAME:AST
DTSTART:20241103T050000
END:STANDARD
BEGIN:DAYLIGHT
TZOFFSETFROM:-0400
TZOFFSETTO:-0300
TZNAME:ADT
DTSTART:20250309T060000
END:DAYLIGHT
BEGIN:STANDARD
TZOFFSETFROM:-0300
TZOFFSETTO:-0400
TZNAME:AST
DTSTART:20251102T050000
END:STANDARD
BEGIN:DAYLIGHT
TZOFFSETFROM:-0400
TZOFFSETTO:-0300
TZNAME:ADT
DTSTART:20260308T060000
END:DAYLIGHT
BEGIN:STANDARD
TZOFFSETFROM:-0300
TZOFFSETTO:-0400
TZNAME:AST
DTSTART:20261101T050000
END:STANDARD
END:VTIMEZONE
BEGIN:VEVENT
DTSTART;TZID=America/Halifax:20251127T000000
DTEND;TZID=America/Halifax:20251130T235900
DTSTAMP:20260419T183930
CREATED:20251024T014754Z
LAST-MODIFIED:20251024T024643Z
UID:2613-1764201600-1764547140@corekidsacademy.com
SUMMARY:CLOSED Thurs-Sun 🦃 Happy Thanksgiving 🧡
DESCRIPTION:We are so THANKFUL for our Core Families! 🍂
URL:https://corekidsacademy.com/event/closed-happy-thanksgiving/
END:VEVENT
END:VCALENDAR