BEGIN:VCALENDAR
VERSION:2.0
PRODID:-//Core Kids Academy - ECPv6.15.12.2//NONSGML v1.0//EN
CALSCALE:GREGORIAN
METHOD:PUBLISH
X-ORIGINAL-URL:https://corekidsacademy.com
X-WR-CALDESC:Events for Core Kids Academy
REFRESH-INTERVAL;VALUE=DURATION:PT1H
X-Robots-Tag:noindex
X-PUBLISHED-TTL:PT1H
BEGIN:VTIMEZONE
TZID:America/Halifax
BEGIN:DAYLIGHT
TZOFFSETFROM:-0400
TZOFFSETTO:-0300
TZNAME:ADT
DTSTART:20240310T060000
END:DAYLIGHT
BEGIN:STANDARD
TZOFFSETFROM:-0300
TZOFFSETTO:-0400
TZNAME:AST
DTSTART:20241103T050000
END:STANDARD
BEGIN:DAYLIGHT
TZOFFSETFROM:-0400
TZOFFSETTO:-0300
TZNAME:ADT
DTSTART:20250309T060000
END:DAYLIGHT
BEGIN:STANDARD
TZOFFSETFROM:-0300
TZOFFSETTO:-0400
TZNAME:AST
DTSTART:20251102T050000
END:STANDARD
BEGIN:DAYLIGHT
TZOFFSETFROM:-0400
TZOFFSETTO:-0300
TZNAME:ADT
DTSTART:20260308T060000
END:DAYLIGHT
BEGIN:STANDARD
TZOFFSETFROM:-0300
TZOFFSETTO:-0400
TZNAME:AST
DTSTART:20261101T050000
END:STANDARD
BEGIN:DAYLIGHT
TZOFFSETFROM:-0400
TZOFFSETTO:-0300
TZNAME:ADT
DTSTART:20270314T060000
END:DAYLIGHT
BEGIN:STANDARD
TZOFFSETFROM:-0300
TZOFFSETTO:-0400
TZNAME:AST
DTSTART:20271107T050000
END:STANDARD
END:VTIMEZONE
BEGIN:VEVENT
DTSTART;TZID=America/Halifax:20251224T080000
DTEND;TZID=America/Halifax:20260102T170000
DTSTAMP:20260419T131135
CREATED:20251124T171046Z
LAST-MODIFIED:20251124T171106Z
UID:2695-1766563200-1767373200@corekidsacademy.com
SUMMARY:🎿❄️CLOSED for Classes: Dec 24-Jan 2  Winter Break - Happy Holidays!❄️ ⛄
DESCRIPTION:Core Kids Academy will be Closed for Classes and Team Practices. School’s Out Winter Camp Days Available! Check them out on our “Special Events” Webpage!
URL:https://corekidsacademy.com/event/%f0%9f%8e%bf%e2%9d%84%ef%b8%8fclosed-for-classes-dec-24-jan-2-winter-break-happy-holidays%e2%9d%84%ef%b8%8f-%e2%9b%84/
END:VEVENT
BEGIN:VEVENT
DTSTART;TZID=America/Halifax:20260102T090000
DTEND;TZID=America/Halifax:20260102T120000
DTSTAMP:20260419T131135
CREATED:20251124T171418Z
LAST-MODIFIED:20251124T171419Z
UID:2698-1767344400-1767355200@corekidsacademy.com
SUMMARY:❄️ Winter Break Camp! - AM🤸🏽‍♀️
DESCRIPTION:School’s Out but Gymnastics & Ninja Fun are IN!Space is Limited. Pre-Registration Required via our “Special Events” webpage.
URL:https://corekidsacademy.com/event/%e2%9d%84%ef%b8%8f-winter-break-camp-am%f0%9f%a4%b8%f0%9f%8f%bd%e2%99%80%ef%b8%8f/
ATTACH;FMTTYPE=image/jpeg:https://corekidsacademy.com/wp-content/uploads/2025/04/Gymnastics-In-The-Gym-Tumble-Stock-Photos-0123.jpg
END:VEVENT
BEGIN:VEVENT
DTSTART;TZID=America/Halifax:20260102T123000
DTEND;TZID=America/Halifax:20260102T150000
DTSTAMP:20260419T131135
CREATED:20251124T171609Z
LAST-MODIFIED:20251124T171610Z
UID:2700-1767357000-1767366000@corekidsacademy.com
SUMMARY:⛄ Winter Break Camp! - PM 🤸🏽‍♀️
DESCRIPTION:School’s Out but Gymnastics & Ninja Fun are IN!Space is Limited. Pre-Registration Required via our “Special Events” webpage.
URL:https://corekidsacademy.com/event/%e2%9b%84-winter-break-camp-pm-%f0%9f%a4%b8%f0%9f%8f%bd%e2%99%80%ef%b8%8f-2/
ATTACH;FMTTYPE=image/jpeg:https://corekidsacademy.com/wp-content/uploads/2025/04/Gymnastics-In-The-Gym-Tumble-Stock-Photos-0152.jpg
END:VEVENT
END:VCALENDAR